BEGIN:VCALENDAR
VERSION:2.0
PRODID:-//Tukios.com/
BEGIN:VEVENT
UID:b607e83a-15f3-41c1-9b70-53a83e6c55e5@www.crottyfh.com
DTSTAMP:20260421T204435Z
DTSTART:20260428T160000Z
DTEND:20260428T170000Z
SUMMARY:Visitation
DESCRIPTION:
URL:https://www.crottyfh.com/obituaries/d-l-rhoades
LOCATION: 5431 U.S. Hwy 190  Belton TX 76513
GEO:31.0545307;-97.5281459
END:VEVENT
END:VCALENDAR