BEGIN:VCALENDAR
VERSION:2.0
PRODID:-//Tukios.com/
BEGIN:VEVENT
UID:58b1b42f-9b18-4289-83a5-3e15bc99d95b@www.crottyfh.com
DTSTAMP:20260421T204602Z
DTSTART:20260428T170000Z
DTEND:20260428T180000Z
SUMMARY:Funeral Service
DESCRIPTION:
URL:https://www.crottyfh.com/obituaries/d-l-rhoades
LOCATION: 5431 U.S. Hwy 190  Belton TX 76513
GEO:31.0545307;-97.5281459
END:VEVENT
END:VCALENDAR