BEGIN:VCALENDAR
VERSION:2.0
PRODID:-//Tukios.com/
BEGIN:VEVENT
UID:d89c3df0-473d-43c3-a959-845f441f7c60@www.crottyfh.com
DTSTAMP:20260421T204435Z
DTSTART:20260428T183000Z
DTEND:20260428T193000Z
SUMMARY:Graveside Service
DESCRIPTION:
URL:https://www.crottyfh.com/obituaries/d-l-rhoades
LOCATION: Bell County  Killeen TX 76543
GEO:31.148223;-97.6765157
END:VEVENT
END:VCALENDAR