BEGIN:VCALENDAR
VERSION:2.0
PRODID:-//Tukios.com/
BEGIN:VEVENT
UID:4406e589-10c9-4655-b98b-ec74dadf40b3@www.crottyfh.com
DTSTAMP:20260420T230547Z
DTSTART:20260502T150000Z
DTEND:20260502T160000Z
SUMMARY:Memorial Service
DESCRIPTION:
URL:https://www.crottyfh.com/obituaries/gilbert-jimenez-jr
LOCATION: 5431 U.S. Hwy 190  Belton TX 76513
GEO:31.0545307;-97.5281459
END:VEVENT
END:VCALENDAR